BEGIN:VCALENDAR
VERSION:2.0
PRODID:-//AudioTheme 1.7.1
BEGIN:VEVENT
UID:https://www.gypsydreamers.com/?post_type=audiotheme_gig&#038;p=2741
URL:https://www.gypsydreamers.com/shows/2025-12-19/
DTSTART;TZID=GMT:20251219T200000
SUMMARY:Green Note Xmas Special
LOCATION:Green Note
END:VEVENT
END:VCALENDAR