BEGIN:VCALENDAR
VERSION:2.0
PRODID:-//AudioTheme 1.7.1
BEGIN:VEVENT
UID:https://www.gypsydreamers.com/?post_type=audiotheme_gig&#038;p=2712
URL:https://www.gypsydreamers.com/shows/cadogan-hall/
DTSTART;TZID=GMT:20250626T110000
SUMMARY:Cadogan Hall
LOCATION:Cadogan Hall near Sloane Square
END:VEVENT
END:VCALENDAR