BEGIN:VCALENDAR
VERSION:2.0
PRODID:-//AudioTheme 1.7.1
BEGIN:VEVENT
UID:https://www.gypsydreamers.com/?post_type=audiotheme_gig&#038;p=2750
URL:https://www.gypsydreamers.com/shows/gig-2750/
DTSTART;TZID=GMT:20260207T190000
SUMMARY:Perivale Library
LOCATION:Perivale Library
END:VEVENT
END:VCALENDAR