BEGIN:VCALENDAR
VERSION:2.0
PRODID:-//AudioTheme 1.7.1
BEGIN:VEVENT
UID:https://www.gypsydreamers.com/?post_type=audiotheme_gig&#038;p=2752
URL:https://www.gypsydreamers.com/shows/gig-2752/
DTSTART;TZID=GMT:20260214T200000
SUMMARY:Green Note
LOCATION:Green Note
END:VEVENT
END:VCALENDAR