BEGIN:VCALENDAR
VERSION:2.0
PRODID:-//AudioTheme 1.7.1
BEGIN:VEVENT
UID:https://www.gypsydreamers.com/?post_type=audiotheme_gig&#038;p=2742
URL:https://www.gypsydreamers.com/shows/gypsy-dreamers-trio-4/
DTSTART;TZID=GMT:20250828T193000
SUMMARY:Gypsy Dreamers Trio
LOCATION:69 Colebrooke Row N1
END:VEVENT
END:VCALENDAR